BEGIN:VCALENDAR
VERSION:2.0
PRODID:-//hacksw/handcal//NONSGML v1.0//EN
BEGIN:VEVENT
SUMMARY:Entrainement Fractionne court
UID:c269bcce-c747-400d-986e-c384e853e8da
DTSTART:20260311T173000Z
DTEND:20260311T190000Z
LOCATION:Lieu d'entrainement Complexe Sportif Joseph Lebret 35720 MESNIL ROC'H
CATEGORIES:Sportif
STATUS:
DESCRIPTION:<p>Seance de fractionne 8 x 600 m - repos 1'15 entre
 chaque serie.</p>
URL;VALUE=URI:https://www.lesgrosmollets.fr/evenements/2026/03/11/entrainement-fractionne-court-2426056
END:VEVENT
END:VCALENDAR
