BEGIN:VCALENDAR
VERSION:2.0
PRODID:-//hacksw/handcal//NONSGML v1.0//EN
BEGIN:VEVENT
SUMMARY:Entrainement Footing + PPG
UID:3c268ade-247a-41de-8553-0af7712486ca
DTSTART:20260313T173000Z
DTEND:20260313T183000Z
LOCATION:Lieu d'entrainement Complexe Sportif Joseph Lebret 35720 MESNIL ROC'H
CATEGORIES:Sportif
STATUS:
DESCRIPTION:<p>Footing + seance de PPG ou Renforcement musculaire</p>
URL;VALUE=URI:https://www.lesgrosmollets.fr/evenements/2026/03/13/entrainement-footing-ppg-2426099
END:VEVENT
END:VCALENDAR
