BEGIN:VCALENDAR
VERSION:2.0
PRODID:-//hacksw/handcal//NONSGML v1.0//EN
BEGIN:VEVENT
SUMMARY:Entrainement Fractionne court
UID:a1b86775-7a35-43c7-ad48-2997d73e1881
DTSTART:20260325T173000Z
DTEND:20260325T190000Z
LOCATION:Lieu d'entrainement Complexe Sportif Joseph Lebret 35720 MESNIL ROC'H
CATEGORIES:Sportif
STATUS:
DESCRIPTION:<p>Seance de fractionne - 12 x 300 m - Recup 50"</p>
URL;VALUE=URI:https://www.lesgrosmollets.fr/evenements/2026/03/25/entrainement-fractionne-court-2426064
END:VEVENT
END:VCALENDAR
