BEGIN:VCALENDAR
VERSION:2.0
PRODID:-//hacksw/handcal//NONSGML v1.0//EN
BEGIN:VEVENT
SUMMARY:Entrainement Fractionne Long
UID:77a83bb7-3850-4fd2-8beb-b027417e7ba2
DTSTART:20260419T073000Z
DTEND:20260419T093000Z
LOCATION:Localisation Mairie  le tronchet
CATEGORIES:Sportif
STATUS:
DESCRIPTION:<p>Seance de Fractionne Long au Tronchet</p>
URL;VALUE=URI:https://www.lesgrosmollets.fr/evenements/2026/04/19/entrainement-fractionne-long-2426130
END:VEVENT
END:VCALENDAR
