BEGIN:VCALENDAR
VERSION:2.0
PRODID:-//hacksw/handcal//NONSGML v1.0//EN
BEGIN:VEVENT
SUMMARY:Entrainement Fractionne court
UID:71bf4a4c-ca7f-4e42-9279-f381f99be266
DTSTART:20260422T163000Z
DTEND:20260422T180000Z
LOCATION:Lieu d'entrainement Complexe Sportif Joseph Lebret 35720 MESNIL ROC'H
CATEGORIES:Sportif
STATUS:
DESCRIPTION:<p>Seance de fractionne </p>
URL;VALUE=URI:https://www.lesgrosmollets.fr/evenements/2026/04/22/entrainement-fractionne-court-2426061
END:VEVENT
END:VCALENDAR
