BEGIN:VCALENDAR
VERSION:2.0
PRODID:-//hacksw/handcal//NONSGML v1.0//EN
BEGIN:VEVENT
SUMMARY:Entrainement Footing + PPG
UID:53394d15-e5e2-4e70-92e6-954f612a29c7
DTSTART:20260424T163000Z
DTEND:20260424T173000Z
LOCATION:Lieu d'entrainement Complexe Sportif Joseph Lebret 35720 MESNIL ROC'H
CATEGORIES:Sportif
STATUS:
DESCRIPTION:<p>Footing + seance de PPG ou Renforcement musculaire</p>
URL;VALUE=URI:https://www.lesgrosmollets.fr/evenements/2026/04/24/entrainement-footing-ppg-2426113
END:VEVENT
END:VCALENDAR
