BEGIN:VCALENDAR
VERSION:2.0
PRODID:-//hacksw/handcal//NONSGML v1.0//EN
BEGIN:VEVENT
SUMMARY:Entrainement Fractionne Long
UID:ec419646-4e9f-451c-98d8-e8531dd8aa1f
DTSTART:20260426T073000Z
DTEND:20260426T093000Z
LOCATION:Localisation Mairie  le tronchet
CATEGORIES:Sportif
STATUS:
DESCRIPTION:<p>Seance de Fractionne Long au Tronchet</p>
URL;VALUE=URI:https://www.lesgrosmollets.fr/evenements/2026/04/26/entrainement-fractionne-long-2426129
END:VEVENT
END:VCALENDAR
