BEGIN:VCALENDAR
VERSION:2.0
PRODID:-//hacksw/handcal//NONSGML v1.0//EN
BEGIN:VEVENT
SUMMARY:Entrainement Footing recup
UID:04d28624-7f03-45f5-ae3c-1c7ed8e4e92d
DTSTART:20260427T163000Z
DTEND:20260427T173000Z
LOCATION:Lieu d'entrainement Complexe Sportif Joseph Lebret 35720 MESNIL ROC'H
CATEGORIES:Sportif
STATUS:
DESCRIPTION:<p>Footing libre a allure moderee</p>
URL;VALUE=URI:https://www.lesgrosmollets.fr/evenements/2026/04/27/entrainement-footing-recup-2426081
END:VEVENT
END:VCALENDAR
