BEGIN:VCALENDAR
VERSION:2.0
PRODID:-//hacksw/handcal//NONSGML v1.0//EN
BEGIN:VEVENT
SUMMARY:Entrainement Fractionne Long
UID:9a20b8c9-24fa-4e59-8590-c7a6548e0073
DTSTART:20260503T073000Z
DTEND:20260503T093000Z
LOCATION:Localisation Mairie  le tronchet
CATEGORIES:Sportif
STATUS:
DESCRIPTION:<p>Seance de Fractionne Long au Tronchet</p>
URL;VALUE=URI:https://www.lesgrosmollets.fr/evenements/2026/05/03/entrainement-fractionne-long-2426128
END:VEVENT
END:VCALENDAR
