BEGIN:VCALENDAR
VERSION:2.0
PRODID:-//hacksw/handcal//NONSGML v1.0//EN
BEGIN:VEVENT
SUMMARY:Entrainement Footing recup
UID:4a5ffb9b-a1d3-4bc6-8caf-3171e2f8e4bd
DTSTART:20260504T163000Z
DTEND:20260504T173000Z
LOCATION:Lieu d'entrainement Complexe Sportif Joseph Lebret 35720 MESNIL ROC'H
CATEGORIES:Sportif
STATUS:
DESCRIPTION:<p>Footing libre a allure moderee</p>
URL;VALUE=URI:https://www.lesgrosmollets.fr/evenements/2026/05/04/entrainement-footing-recup-2426086
END:VEVENT
END:VCALENDAR
