BEGIN:VCALENDAR
VERSION:2.0
PRODID:-//hacksw/handcal//NONSGML v1.0//EN
BEGIN:VEVENT
SUMMARY:Entrainement Fractionne court
UID:596dac09-0fbe-46a2-8b41-bf345322c77b
DTSTART:20260506T163000Z
DTEND:20260506T180000Z
LOCATION:Lieu d'entrainement Complexe Sportif Joseph Lebret 35720 MESNIL ROC'H
CATEGORIES:Sportif
STATUS:
DESCRIPTION:<p>Seance de fractionne </p>
URL;VALUE=URI:https://www.lesgrosmollets.fr/evenements/2026/05/06/entrainement-fractionne-court-2426065
END:VEVENT
END:VCALENDAR
