BEGIN:VCALENDAR
VERSION:2.0
PRODID:-//hacksw/handcal//NONSGML v1.0//EN
BEGIN:VEVENT
SUMMARY:Entrainement Fractionne Long
UID:4d73375c-4753-48cc-8b76-2bef06621416
DTSTART:20260510T073000Z
DTEND:20260510T093000Z
LOCATION:Localisation Mairie  le tronchet
CATEGORIES:Sportif
STATUS:
DESCRIPTION:<p>Seance de Fractionne Long au Tronchet</p>
URL;VALUE=URI:https://www.lesgrosmollets.fr/evenements/2026/05/10/entrainement-fractionne-long-2426134
END:VEVENT
END:VCALENDAR
