BEGIN:VCALENDAR
VERSION:2.0
PRODID:-//hacksw/handcal//NONSGML v1.0//EN
BEGIN:VEVENT
SUMMARY:Entrainement Footing recup
UID:a503bb97-e839-4a8a-be3a-4ecc5b9842dd
DTSTART:20260511T163000Z
DTEND:20260511T173000Z
LOCATION:Lieu d'entrainement Complexe Sportif Joseph Lebret 35720 MESNIL ROC'H
CATEGORIES:Sportif
STATUS:
DESCRIPTION:<p>Footing libre a allure moderee</p>
URL;VALUE=URI:https://www.lesgrosmollets.fr/evenements/2026/05/11/entrainement-footing-recup-2426092
END:VEVENT
END:VCALENDAR
