BEGIN:VCALENDAR
VERSION:2.0
PRODID:-//hacksw/handcal//NONSGML v1.0//EN
BEGIN:VEVENT
SUMMARY:Entrainement Fractionne court
UID:6939702e-8975-4039-91be-f727a1073f18
DTSTART:20260513T163000Z
DTEND:20260513T180000Z
LOCATION:Lieu d'entrainement Complexe Sportif Joseph Lebret 35720 MESNIL ROC'H
CATEGORIES:Sportif
STATUS:
DESCRIPTION:<p>Seance de fractionne </p>
URL;VALUE=URI:https://www.lesgrosmollets.fr/evenements/2026/05/13/entrainement-fractionne-court-2426071
END:VEVENT
END:VCALENDAR
