BEGIN:VCALENDAR
VERSION:2.0
PRODID:-//hacksw/handcal//NONSGML v1.0//EN
BEGIN:VEVENT
SUMMARY:Entrainement Footing + PPG
UID:9903905f-48b2-4e12-9742-1193a19b02e7
DTSTART:20260515T163000Z
DTEND:20260515T173000Z
LOCATION:Lieu d'entrainement Complexe Sportif Joseph Lebret 35720 MESNIL ROC'H
CATEGORIES:Sportif
STATUS:
DESCRIPTION:<p>Footing + seance de PPG ou Renforcement musculaire</p>
URL;VALUE=URI:https://www.lesgrosmollets.fr/evenements/2026/05/15/entrainement-footing-ppg-2426117
END:VEVENT
END:VCALENDAR
