BEGIN:VCALENDAR
VERSION:2.0
PRODID:-//hacksw/handcal//NONSGML v1.0//EN
BEGIN:VEVENT
SUMMARY:Entrainement Fractionne Long
UID:85b1ba77-1cdb-4737-9485-0e486ed3e3c1
DTSTART:20260517T073000Z
DTEND:20260517T093000Z
LOCATION:Localisation Mairie  le tronchet
CATEGORIES:Sportif
STATUS:
DESCRIPTION:<p>Seance de Fractionne Long au Tronchet</p>
URL;VALUE=URI:https://www.lesgrosmollets.fr/evenements/2026/05/17/entrainement-fractionne-long-2426133
END:VEVENT
END:VCALENDAR
