BEGIN:VCALENDAR
VERSION:2.0
PRODID:-//hacksw/handcal//NONSGML v1.0//EN
BEGIN:VEVENT
SUMMARY:Entrainement Fractionne Long
UID:83ed6e69-0fd9-40a3-9ea9-74a43d1041cc
DTSTART:20260524T073000Z
DTEND:20260524T093000Z
LOCATION:Localisation Mairie  le tronchet
CATEGORIES:Sportif
STATUS:
DESCRIPTION:<p>Seance de Fractionne Long au Tronchet</p>
URL;VALUE=URI:https://www.lesgrosmollets.fr/evenements/2026/05/24/entrainement-fractionne-long-2426139
END:VEVENT
END:VCALENDAR
