BEGIN:VCALENDAR
VERSION:2.0
PRODID:-//hacksw/handcal//NONSGML v1.0//EN
BEGIN:VEVENT
SUMMARY:Entrainement Footing recup
UID:1ab4e170-d046-4771-bdf7-30c0b1c2eb80
DTSTART:20260525T163000Z
DTEND:20260525T173000Z
LOCATION:Lieu d'entrainement Complexe Sportif Joseph Lebret 35720 MESNIL ROC'H
CATEGORIES:Sportif
STATUS:
DESCRIPTION:<p>Footing libre a allure moderee</p>
URL;VALUE=URI:https://www.lesgrosmollets.fr/evenements/2026/05/25/entrainement-footing-recup-2426090
END:VEVENT
END:VCALENDAR
