BEGIN:VCALENDAR
VERSION:2.0
PRODID:-//hacksw/handcal//NONSGML v1.0//EN
BEGIN:VEVENT
SUMMARY:Entrainement Fractionne court
UID:749b6e33-b62d-4104-a19a-f3d0914947f7
DTSTART:20260527T163000Z
DTEND:20260527T180000Z
LOCATION:Lieu d'entrainement Complexe Sportif Joseph Lebret 35720 MESNIL ROC'H
CATEGORIES:Sportif
STATUS:
DESCRIPTION:<p>Seance de fractionne </p>
URL;VALUE=URI:https://www.lesgrosmollets.fr/evenements/2026/05/27/entrainement-fractionne-court-2426069
END:VEVENT
END:VCALENDAR
