BEGIN:VCALENDAR
VERSION:2.0
PRODID:-//hacksw/handcal//NONSGML v1.0//EN
BEGIN:VEVENT
SUMMARY:Entrainement Footing + PPG
UID:f3347f09-1c81-4f54-a896-f3ee280c39f1
DTSTART:20260529T163000Z
DTEND:20260529T173000Z
LOCATION:Lieu d'entrainement Complexe Sportif Joseph Lebret 35720 MESNIL ROC'H
CATEGORIES:Sportif
STATUS:
DESCRIPTION:<p>Footing + seance de PPG ou Renforcement musculaire</p>
URL;VALUE=URI:https://www.lesgrosmollets.fr/evenements/2026/05/29/entrainement-footing-ppg-2426122
END:VEVENT
END:VCALENDAR
