BEGIN:VCALENDAR
VERSION:2.0
PRODID:-//hacksw/handcal//NONSGML v1.0//EN
BEGIN:VEVENT
SUMMARY:Entrainement Footing recup
UID:ba5d75df-e1db-4462-bafc-7aade6d2bba4
DTSTART:20260601T163000Z
DTEND:20260601T173000Z
LOCATION:Lieu d'entrainement Complexe Sportif Joseph Lebret 35720 MESNIL ROC'H
CATEGORIES:Sportif
STATUS:
DESCRIPTION:<p>Footing libre a allure moderee</p>
URL;VALUE=URI:https://www.lesgrosmollets.fr/evenements/2026/06/01/entrainement-footing-recup-2426089
END:VEVENT
END:VCALENDAR
