BEGIN:VCALENDAR
VERSION:2.0
PRODID:-//hacksw/handcal//NONSGML v1.0//EN
BEGIN:VEVENT
SUMMARY:Entrainement Footing + PPG
UID:f5f8ab17-b734-4c34-a547-d4da1d28f634
DTSTART:20260605T163000Z
DTEND:20260605T173000Z
LOCATION:Lieu d'entrainement Complexe Sportif Joseph Lebret 35720 MESNIL ROC'H
CATEGORIES:Sportif
STATUS:
DESCRIPTION:<p>Footing + seance de PPG ou Renforcement musculaire</p>
URL;VALUE=URI:https://www.lesgrosmollets.fr/evenements/2026/06/05/entrainement-footing-ppg-2426121
END:VEVENT
END:VCALENDAR
