BEGIN:VCALENDAR
VERSION:2.0
PRODID:-//hacksw/handcal//NONSGML v1.0//EN
BEGIN:VEVENT
SUMMARY:Entrainement Fractionne court
UID:68ad21ba-be45-408b-82ae-acdbe4a88985
DTSTART:20260701T163000Z
DTEND:20260701T180000Z
LOCATION:Lieu d'entrainement Complexe Sportif Joseph Lebret 35720 MESNIL ROC'H
CATEGORIES:Sportif
STATUS:
DESCRIPTION:<p>Seance de fractionne </p>
URL;VALUE=URI:https://www.lesgrosmollets.fr/evenements/2026/07/01/entrainement-fractionne-court-2426057
END:VEVENT
END:VCALENDAR
